BEGIN:VCALENDAR
VERSION:2.0
PRODID:-//wp-events-plugin.com//7.2.3.1//EN
BEGIN:VEVENT
UID:156@bridgerugby.ca
DTSTART:20250614T140000Z
DTEND:20250614T160000Z
DTSTAMP:20250422T180317Z
URL:https://bridgerugby.ca/events/womens-lethbridge-vs-titans/
SUMMARY:Women's Lethbridge Vs Titans
DESCRIPTION:
CATEGORIES:Out Of Town Game,Women's
END:VEVENT
END:VCALENDAR