BEGIN:VCALENDAR
VERSION:2.0
PRODID:-//wp-events-plugin.com//7.2.3.1//EN
BEGIN:VEVENT
UID:159@bridgerugby.ca
DTSTART:20250712T140000Z
DTEND:20250712T160000Z
DTSTAMP:20250422T180828Z
URL:https://bridgerugby.ca/events/womens-lethbridge-vs-saints/
SUMMARY:Women's Lethbridge Vs Saints
DESCRIPTION:
CATEGORIES:Home Game,Women's
END:VEVENT
END:VCALENDAR