BEGIN:VCALENDAR
VERSION:2.0
PRODID:-//wp-events-plugin.com//7.2.3.1//EN
BEGIN:VEVENT
UID:154@bridgerugby.ca
DTSTART:20250607T130000Z
DTEND:20250607T150000Z
DTSTAMP:20250422T175425Z
URL:https://bridgerugby.ca/events/womens-canucks-vs-lethbridge/
SUMMARY:Women's Canucks Vs Lethbridge
DESCRIPTION:
CATEGORIES:Out Of Town Game,Women's
END:VEVENT
END:VCALENDAR