BEGIN:VCALENDAR
VERSION:2.0
PRODID:-//wp-events-plugin.com//7.2.3.1//EN
BEGIN:VEVENT
UID:157@bridgerugby.ca
DTSTART:20250621T140000Z
DTEND:20250621T160000Z
DTSTAMP:20250422T180228Z
URL:https://bridgerugby.ca/events/mens-titans-vs-lethbridge/
SUMMARY:Men's Titans Vs Lethbridge
DESCRIPTION:
CATEGORIES:Men's,Out Of Town Game
END:VEVENT
END:VCALENDAR